BEGIN:VCALENDAR
VERSION:2.0
PRODID:-//SECTR - Southeastern CT Robotics - ECPv6.15.20//NONSGML v1.0//EN
CALSCALE:GREGORIAN
METHOD:PUBLISH
X-ORIGINAL-URL:https://southeasternctrobotics.com
X-WR-CALDESC:Events for SECTR - Southeastern CT Robotics
REFRESH-INTERVAL;VALUE=DURATION:PT1H
X-Robots-Tag:noindex
X-PUBLISHED-TTL:PT1H
BEGIN:VTIMEZONE
TZID:America/New_York
BEGIN:DAYLIGHT
TZOFFSETFROM:-0500
TZOFFSETTO:-0400
TZNAME:EDT
DTSTART:20250309T070000
END:DAYLIGHT
BEGIN:STANDARD
TZOFFSETFROM:-0400
TZOFFSETTO:-0500
TZNAME:EST
DTSTART:20251102T060000
END:STANDARD
BEGIN:DAYLIGHT
TZOFFSETFROM:-0500
TZOFFSETTO:-0400
TZNAME:EDT
DTSTART:20260308T070000
END:DAYLIGHT
BEGIN:STANDARD
TZOFFSETFROM:-0400
TZOFFSETTO:-0500
TZNAME:EST
DTSTART:20261101T060000
END:STANDARD
BEGIN:DAYLIGHT
TZOFFSETFROM:-0500
TZOFFSETTO:-0400
TZNAME:EDT
DTSTART:20270314T070000
END:DAYLIGHT
BEGIN:STANDARD
TZOFFSETFROM:-0400
TZOFFSETTO:-0500
TZNAME:EST
DTSTART:20271107T060000
END:STANDARD
END:VTIMEZONE
BEGIN:VEVENT
DTSTART;VALUE=DATE:20260429
DTEND;VALUE=DATE:20260503
DTSTAMP:20260421T172503
CREATED:20260305T203033Z
LAST-MODIFIED:20260305T203033Z
UID:641-1777420800-1777766399@southeasternctrobotics.com
SUMMARY:FTC to FIRST World Championships
DESCRIPTION:
URL:https://southeasternctrobotics.com/event/ftc-to-first-world-championships/
LOCATION:George R Brown Convention Center\, 1001 Avenida de las Americas\, Houston\, TX\, 77010\, United States
END:VEVENT
BEGIN:VEVENT
DTSTART;TZID=America/New_York:20260504T170000
DTEND;TZID=America/New_York:20260504T180000
DTSTAMP:20260421T172503
CREATED:20260305T203234Z
LAST-MODIFIED:20260305T203234Z
UID:644-1777914000-1777917600@southeasternctrobotics.com
SUMMARY:Professor Stewart Visiting
DESCRIPTION:Discussion about combustion and how a model rocket works
URL:https://southeasternctrobotics.com/event/professor-stewart-visiting/
LOCATION:Harris Place\, 165 State Street\, New London\, CT\, 06320
END:VEVENT
BEGIN:VEVENT
DTSTART;TZID=America/New_York:20260505T170000
DTEND;TZID=America/New_York:20260505T180000
DTSTAMP:20260421T172503
CREATED:20260305T203321Z
LAST-MODIFIED:20260305T203321Z
UID:646-1778000400-1778004000@southeasternctrobotics.com
SUMMARY:Professor Stewart to Visit
DESCRIPTION:
URL:https://southeasternctrobotics.com/event/professor-stewart-to-visit/
LOCATION:CT
END:VEVENT
BEGIN:VEVENT
DTSTART;TZID=America/New_York:20260507T170000
DTEND;TZID=America/New_York:20260507T180000
DTSTAMP:20260421T172503
CREATED:20260305T203416Z
LAST-MODIFIED:20260305T203416Z
UID:648-1778173200-1778176800@southeasternctrobotics.com
SUMMARY:Professor Stewart to Visit
DESCRIPTION:
URL:https://southeasternctrobotics.com/event/professor-stewart-to-visit-2/
LOCATION:Harris Place\, 165 State Street\, New London\, CT\, 06320
END:VEVENT
BEGIN:VEVENT
DTSTART;TZID=America/New_York:20260516T100000
DTEND;TZID=America/New_York:20260516T140000
DTSTAMP:20260421T172503
CREATED:20260206T172718Z
LAST-MODIFIED:20260206T172718Z
UID:588-1778925600-1778940000@southeasternctrobotics.com
SUMMARY:Annual Model Rocket Launch
DESCRIPTION:Members will design and build their own model rockets. They will learn about the chemical combustion reaction\, aerodynamics\, and hone their CAD skills during the Spring session. The rockets will be launched at the University of Rhode Island hosted by the Rhode Island Model Rocket Association (RIMRA). \n 
URL:https://southeasternctrobotics.com/event/annual-model-rocket-launch/
LOCATION:University of Rhode Isalnd\, 75 Briar Lane\, Kingston\, Rhode Island\, United States
END:VEVENT
END:VCALENDAR