BEGIN:VCALENDAR
VERSION:2.0
PRODID:-//SECTR - Southeastern CT Robotics - ECPv6.15.20//NONSGML v1.0//EN
CALSCALE:GREGORIAN
METHOD:PUBLISH
X-ORIGINAL-URL:https://southeasternctrobotics.com
X-WR-CALDESC:Events for SECTR - Southeastern CT Robotics
REFRESH-INTERVAL;VALUE=DURATION:PT1H
X-Robots-Tag:noindex
X-PUBLISHED-TTL:PT1H
BEGIN:VTIMEZONE
TZID:America/New_York
BEGIN:DAYLIGHT
TZOFFSETFROM:-0500
TZOFFSETTO:-0400
TZNAME:EDT
DTSTART:20260308T070000
END:DAYLIGHT
BEGIN:STANDARD
TZOFFSETFROM:-0400
TZOFFSETTO:-0500
TZNAME:EST
DTSTART:20261101T060000
END:STANDARD
BEGIN:DAYLIGHT
TZOFFSETFROM:-0500
TZOFFSETTO:-0400
TZNAME:EDT
DTSTART:20270314T070000
END:DAYLIGHT
BEGIN:STANDARD
TZOFFSETFROM:-0400
TZOFFSETTO:-0500
TZNAME:EST
DTSTART:20271107T060000
END:STANDARD
BEGIN:DAYLIGHT
TZOFFSETFROM:-0500
TZOFFSETTO:-0400
TZNAME:EDT
DTSTART:20280312T070000
END:DAYLIGHT
BEGIN:STANDARD
TZOFFSETFROM:-0400
TZOFFSETTO:-0500
TZNAME:EST
DTSTART:20281105T060000
END:STANDARD
END:VTIMEZONE
BEGIN:VEVENT
DTSTART;TZID=America/New_York:20270109T160000
DTEND;TZID=America/New_York:20270109T180000
DTSTAMP:20260421T221146
CREATED:20241208T221621Z
LAST-MODIFIED:20260206T212641Z
UID:480-1799510400-1799517600@southeasternctrobotics.com
SUMMARY:Open House for New FLL Members for the 2027 Season
DESCRIPTION:Rising members and interested applicants are invited to either of our Open Houses in January to meet the coaches and currrent team members. Please RSVP if you are planning on attending. New teams will be decided after the Open Houses and the season will begin at the end of January.
URL:https://southeasternctrobotics.com/event/open-house-for-new-members-for-the-2025-season/
LOCATION:Harris Place\, 165 State Street\, New London\, CT\, 06320
ORGANIZER;CN="Southeastern CT Robotics":MAILTO:fini@southeasternctrobotics.com
END:VEVENT
END:VCALENDAR