BEGIN:VCALENDAR
VERSION:2.0
PRODID:-//SECTR - Southeastern CT Robotics - ECPv6.15.20//NONSGML v1.0//EN
CALSCALE:GREGORIAN
METHOD:PUBLISH
X-WR-CALNAME:SECTR - Southeastern CT Robotics
X-ORIGINAL-URL:https://southeasternctrobotics.com
X-WR-CALDESC:Events for SECTR - Southeastern CT Robotics
REFRESH-INTERVAL;VALUE=DURATION:PT1H
X-Robots-Tag:noindex
X-PUBLISHED-TTL:PT1H
BEGIN:VTIMEZONE
TZID:America/New_York
BEGIN:DAYLIGHT
TZOFFSETFROM:-0500
TZOFFSETTO:-0400
TZNAME:EDT
DTSTART:20250309T070000
END:DAYLIGHT
BEGIN:STANDARD
TZOFFSETFROM:-0400
TZOFFSETTO:-0500
TZNAME:EST
DTSTART:20251102T060000
END:STANDARD
BEGIN:DAYLIGHT
TZOFFSETFROM:-0500
TZOFFSETTO:-0400
TZNAME:EDT
DTSTART:20260308T070000
END:DAYLIGHT
BEGIN:STANDARD
TZOFFSETFROM:-0400
TZOFFSETTO:-0500
TZNAME:EST
DTSTART:20261101T060000
END:STANDARD
BEGIN:DAYLIGHT
TZOFFSETFROM:-0500
TZOFFSETTO:-0400
TZNAME:EDT
DTSTART:20270314T070000
END:DAYLIGHT
BEGIN:STANDARD
TZOFFSETFROM:-0400
TZOFFSETTO:-0500
TZNAME:EST
DTSTART:20271107T060000
END:STANDARD
BEGIN:DAYLIGHT
TZOFFSETFROM:-0500
TZOFFSETTO:-0400
TZNAME:EDT
DTSTART:20280312T070000
END:DAYLIGHT
BEGIN:STANDARD
TZOFFSETFROM:-0400
TZOFFSETTO:-0500
TZNAME:EST
DTSTART:20281105T060000
END:STANDARD
END:VTIMEZONE
BEGIN:VEVENT
DTSTART;TZID=America/New_York:20261107T030000
DTEND;TZID=America/New_York:20261107T180000
DTSTAMP:20260421T221736
CREATED:20260206T173247Z
LAST-MODIFIED:20260206T173247Z
UID:598-1794020400-1794074400@southeasternctrobotics.com
SUMMARY:Mock Tournament
DESCRIPTION:Dress rehearsal for Qualifiers
URL:https://southeasternctrobotics.com/event/mock-tournament/
LOCATION:Harris Place\, 165 State Street\, New London\, CT\, 06320
END:VEVENT
BEGIN:VEVENT
DTSTART;VALUE=DATE:20261114
DTEND;VALUE=DATE:20261115
DTSTAMP:20260421T221736
CREATED:20260206T173050Z
LAST-MODIFIED:20260206T173050Z
UID:594-1794614400-1794700799@southeasternctrobotics.com
SUMMARY:FLL Qualifers Weekend #1
DESCRIPTION:
URL:https://southeasternctrobotics.com/event/fll-qualifers-weekend-1/
LOCATION:CT
END:VEVENT
BEGIN:VEVENT
DTSTART;VALUE=DATE:20261121
DTEND;VALUE=DATE:20261122
DTSTAMP:20260421T221736
CREATED:20260206T173136Z
LAST-MODIFIED:20260206T173136Z
UID:596-1795219200-1795305599@southeasternctrobotics.com
SUMMARY:FLL Qualifiers Weekend #2
DESCRIPTION:
URL:https://southeasternctrobotics.com/event/fll-qualifiers-weekend-2/
LOCATION:CT
END:VEVENT
BEGIN:VEVENT
DTSTART;TZID=America/New_York:20270109T160000
DTEND;TZID=America/New_York:20270109T180000
DTSTAMP:20260421T221736
CREATED:20241208T221621Z
LAST-MODIFIED:20260206T212641Z
UID:480-1799510400-1799517600@southeasternctrobotics.com
SUMMARY:Open House for New FLL Members for the 2027 Season
DESCRIPTION:Rising members and interested applicants are invited to either of our Open Houses in January to meet the coaches and currrent team members. Please RSVP if you are planning on attending. New teams will be decided after the Open Houses and the season will begin at the end of January.
URL:https://southeasternctrobotics.com/event/open-house-for-new-members-for-the-2025-season/
LOCATION:Harris Place\, 165 State Street\, New London\, CT\, 06320
ORGANIZER;CN="Southeastern CT Robotics":MAILTO:fini@southeasternctrobotics.com
END:VEVENT
END:VCALENDAR