BEGIN:VCALENDAR
VERSION:2.0
PRODID:-//SECTR - Southeastern CT Robotics - ECPv6.15.20//NONSGML v1.0//EN
CALSCALE:GREGORIAN
METHOD:PUBLISH
X-WR-CALNAME:SECTR - Southeastern CT Robotics
X-ORIGINAL-URL:https://southeasternctrobotics.com
X-WR-CALDESC:Events for SECTR - Southeastern CT Robotics
REFRESH-INTERVAL;VALUE=DURATION:PT1H
X-Robots-Tag:noindex
X-PUBLISHED-TTL:PT1H
BEGIN:VTIMEZONE
TZID:America/New_York
BEGIN:DAYLIGHT
TZOFFSETFROM:-0500
TZOFFSETTO:-0400
TZNAME:EDT
DTSTART:20220313T070000
END:DAYLIGHT
BEGIN:STANDARD
TZOFFSETFROM:-0400
TZOFFSETTO:-0500
TZNAME:EST
DTSTART:20221106T060000
END:STANDARD
BEGIN:DAYLIGHT
TZOFFSETFROM:-0500
TZOFFSETTO:-0400
TZNAME:EDT
DTSTART:20230312T070000
END:DAYLIGHT
BEGIN:STANDARD
TZOFFSETFROM:-0400
TZOFFSETTO:-0500
TZNAME:EST
DTSTART:20231105T060000
END:STANDARD
BEGIN:DAYLIGHT
TZOFFSETFROM:-0500
TZOFFSETTO:-0400
TZNAME:EDT
DTSTART:20240310T070000
END:DAYLIGHT
BEGIN:STANDARD
TZOFFSETFROM:-0400
TZOFFSETTO:-0500
TZNAME:EST
DTSTART:20241103T060000
END:STANDARD
BEGIN:DAYLIGHT
TZOFFSETFROM:-0500
TZOFFSETTO:-0400
TZNAME:EDT
DTSTART:20250309T070000
END:DAYLIGHT
BEGIN:STANDARD
TZOFFSETFROM:-0400
TZOFFSETTO:-0500
TZNAME:EST
DTSTART:20251102T060000
END:STANDARD
BEGIN:DAYLIGHT
TZOFFSETFROM:-0500
TZOFFSETTO:-0400
TZNAME:EDT
DTSTART:20260308T070000
END:DAYLIGHT
BEGIN:STANDARD
TZOFFSETFROM:-0400
TZOFFSETTO:-0500
TZNAME:EST
DTSTART:20261101T060000
END:STANDARD
BEGIN:DAYLIGHT
TZOFFSETFROM:-0500
TZOFFSETTO:-0400
TZNAME:EDT
DTSTART:20270314T070000
END:DAYLIGHT
BEGIN:STANDARD
TZOFFSETFROM:-0400
TZOFFSETTO:-0500
TZNAME:EST
DTSTART:20271107T060000
END:STANDARD
END:VTIMEZONE
BEGIN:VTIMEZONE
TZID:UTC
BEGIN:STANDARD
TZOFFSETFROM:+0000
TZOFFSETTO:+0000
TZNAME:UTC
DTSTART:20200101T000000
END:STANDARD
END:VTIMEZONE
BEGIN:VTIMEZONE
TZID:Asia/Dubai
BEGIN:STANDARD
TZOFFSETFROM:+0400
TZOFFSETTO:+0400
TZNAME:+04
DTSTART:20210101T000000
END:STANDARD
END:VTIMEZONE
BEGIN:VTIMEZONE
TZID:America/New_York
BEGIN:DAYLIGHT
TZOFFSETFROM:-0500
TZOFFSETTO:-0400
TZNAME:EDT
DTSTART:20210314T070000
END:DAYLIGHT
BEGIN:STANDARD
TZOFFSETFROM:-0400
TZOFFSETTO:-0500
TZNAME:EST
DTSTART:20211107T060000
END:STANDARD
BEGIN:DAYLIGHT
TZOFFSETFROM:-0500
TZOFFSETTO:-0400
TZNAME:EDT
DTSTART:20220313T070000
END:DAYLIGHT
BEGIN:STANDARD
TZOFFSETFROM:-0400
TZOFFSETTO:-0500
TZNAME:EST
DTSTART:20221106T060000
END:STANDARD
BEGIN:DAYLIGHT
TZOFFSETFROM:-0500
TZOFFSETTO:-0400
TZNAME:EDT
DTSTART:20230312T070000
END:DAYLIGHT
BEGIN:STANDARD
TZOFFSETFROM:-0400
TZOFFSETTO:-0500
TZNAME:EST
DTSTART:20231105T060000
END:STANDARD
END:VTIMEZONE
BEGIN:VEVENT
DTSTART;TZID=America/New_York:20260409T170000
DTEND;TZID=America/New_York:20260409T200000
DTSTAMP:20260421T161351
CREATED:20260409T161610Z
LAST-MODIFIED:20260409T161610Z
UID:676-1775754000-1775764800@southeasternctrobotics.com
SUMMARY:FTC Scrimmage at the Stonington Community Center
DESCRIPTION:Our team will meet with three other FTC teams to test out the robot and its new configuration against other robots.
URL:https://southeasternctrobotics.com/event/ftc-scrimmage-at-the-stonington-community-center/
LOCATION:Stonnington Community Center\, 28 Cutler Street\, Stonington\, CT\, 06378\, United States
END:VEVENT
BEGIN:VEVENT
DTSTART;TZID=America/New_York:20260408T160000
DTEND;TZID=America/New_York:20260408T170000
DTSTAMP:20260421T161351
CREATED:20260305T200922Z
LAST-MODIFIED:20260305T200922Z
UID:617-1775664000-1775667600@southeasternctrobotics.com
SUMMARY:Classes at the Public Library of New London
DESCRIPTION:Outreach classes for New London students through the Public Library of New London
URL:https://southeasternctrobotics.com/event/classes-at-the-public-library-of-new-london/
LOCATION:Public Library of New London\, 63 Huntington Street\, New London\, CT\, 06320\, United States
END:VEVENT
BEGIN:VEVENT
DTSTART;TZID=America/New_York:20260328T150000
DTEND;TZID=America/New_York:20260328T160000
DTSTAMP:20260421T161351
CREATED:20260305T200331Z
LAST-MODIFIED:20260305T200331Z
UID:613-1774710000-1774713600@southeasternctrobotics.com
SUMMARY:Parent Coach Council Meeting
DESCRIPTION:
URL:https://southeasternctrobotics.com/event/parent-coach-council-meeting/
LOCATION:Harris Place\, 165 State Street\, New London\, CT\, 06320
END:VEVENT
BEGIN:VEVENT
DTSTART;TZID=America/New_York:20260328T100000
DTEND;TZID=America/New_York:20260328T123000
DTSTAMP:20260421T161351
CREATED:20260305T201711Z
LAST-MODIFIED:20260305T201711Z
UID:629-1774692000-1774701000@southeasternctrobotics.com
SUMMARY:Explore Team Meeting #1
DESCRIPTION:
URL:https://southeasternctrobotics.com/event/explore-team-meeting-1/
LOCATION:CT
END:VEVENT
BEGIN:VEVENT
DTSTART;TZID=America/New_York:20260328T080000
DTEND;TZID=America/New_York:20260328T170000
DTSTAMP:20260421T161351
CREATED:20260306T170743Z
LAST-MODIFIED:20260306T170743Z
UID:668-1774684800-1774717200@southeasternctrobotics.com
SUMMARY:Tolland Robotics Expo
DESCRIPTION:FTC will be demonstrating its robot at the Expo.
URL:https://southeasternctrobotics.com/event/tolland-robotics-expo/
LOCATION:New England Air and Space Museum\, 36 Perimeter Rd\, Windsor Locks\, CT\, 06096\, United States
END:VEVENT
BEGIN:VEVENT
DTSTART;TZID=America/New_York:20260327T080000
DTEND;TZID=America/New_York:20260331T170000
DTSTAMP:20260421T161351
CREATED:20260305T200543Z
LAST-MODIFIED:20260305T200543Z
UID:615-1774598400-1774976400@southeasternctrobotics.com
SUMMARY:Double Good Popcorn Sales
DESCRIPTION:Support our FTC team’s trip to the FIRST World Championship by pre-orderng and purchasing pocorn from Double Good. 50% of sales go to the team.
URL:https://southeasternctrobotics.com/event/double-good-popcorn-sales/
LOCATION:Harris Place\, 165 State Street\, New London\, CT\, 06320
END:VEVENT
BEGIN:VEVENT
DTSTART;TZID=America/New_York:20260321T150000
DTEND;TZID=America/New_York:20260321T160000
DTSTAMP:20260421T161351
CREATED:20260305T200230Z
LAST-MODIFIED:20260305T200230Z
UID:611-1774105200-1774108800@southeasternctrobotics.com
SUMMARY:Drone Showcase for Parents
DESCRIPTION:In Atrium 101 \nParents are invited to see the results of the teams’ drone experiments. This gives our members a chance to practice their presentation skills.
URL:https://southeasternctrobotics.com/event/drone-showcase-for-parents/
LOCATION:Harris Place\, 165 State Street\, New London\, CT\, 06320
END:VEVENT
BEGIN:VEVENT
DTSTART;TZID=America/New_York:20260309T180000
DTEND;TZID=America/New_York:20260309T200000
DTSTAMP:20260421T161351
CREATED:20260305T202339Z
LAST-MODIFIED:20260305T202339Z
UID:637-1773079200-1773086400@southeasternctrobotics.com
SUMMARY:Interview with Kimberly Hughes
DESCRIPTION:FTC Interview by Community Foundation for their newsletter
URL:https://southeasternctrobotics.com/event/interview-with-kimberly-hughes/
LOCATION:Harris Place\, 165 State Street\, New London\, CT\, 06320
END:VEVENT
BEGIN:VEVENT
DTSTART;TZID=America/New_York:20260305T080000
DTEND;TZID=America/New_York:20260305T170000
DTSTAMP:20260421T161351
CREATED:20260305T204817Z
LAST-MODIFIED:20260305T204909Z
UID:656-1772697600-1772730000@southeasternctrobotics.com
SUMMARY:FTC Tolland County Robotics Expo
DESCRIPTION:FTC Demonstrating Robot
URL:https://southeasternctrobotics.com/event/ftc-tolland-county-robotics-expo/
LOCATION:New England Air and Space Museum\, 36 Perimeter Rd\, Windsor Locks\, CT\, 06096\, United States
END:VEVENT
BEGIN:VEVENT
DTSTART;TZID=America/New_York:20260305T080000
DTEND;TZID=America/New_York:20260305T170000
DTSTAMP:20260421T161351
CREATED:20260305T195858Z
LAST-MODIFIED:20260305T195858Z
UID:609-1772697600-1772730000@southeasternctrobotics.com
SUMMARY:NHRL Battlebots
DESCRIPTION:Brian and Anthony will be competing at the Norwalk Battlebots arena. Tickets are approximately $24 for and $13 for children. Time: 10 am – 11 pm. Stop in to root for our home team.
URL:https://southeasternctrobotics.com/event/nhrl-battlebots/
LOCATION:CT
END:VEVENT
BEGIN:VEVENT
DTSTART;VALUE=DATE:20260221
DTEND;VALUE=DATE:20260222
DTSTAMP:20260421T161351
CREATED:20260206T172819Z
LAST-MODIFIED:20260206T172819Z
UID:592-1771632000-1771718399@southeasternctrobotics.com
SUMMARY:FTC State Championship
DESCRIPTION:
URL:https://southeasternctrobotics.com/event/ftc-state-championship/
LOCATION:CT
END:VEVENT
BEGIN:VEVENT
DTSTART;VALUE=DATE:20241214
DTEND;VALUE=DATE:20241215
DTSTAMP:20260421T161351
CREATED:20241208T221018Z
LAST-MODIFIED:20241208T221018Z
UID:478-1734134400-1734220799@southeasternctrobotics.com
SUMMARY:CT State FLL Championship
DESCRIPTION:16501\, Persistent Puffins\, and 16502\, Seven Seas\, will be competing and presenting at the CT State FLL Championship. Free and open to the public.
URL:https://southeasternctrobotics.com/event/ct-state-fll-championship/
LOCATION:Glastonbury High School\, 330 Hubbard St\, Glastonbury\, CT\, 06033\, United States
END:VEVENT
BEGIN:VEVENT
DTSTART;TZID=America/New_York:20230610T140000
DTEND;TZID=America/New_York:20230610T180000
DTSTAMP:20260421T161351
CREATED:20230130T182621Z
LAST-MODIFIED:20230130T182621Z
UID:410-1686405600-1686420000@southeasternctrobotics.com
SUMMARY:Carnival Fundraiser
DESCRIPTION:
URL:https://southeasternctrobotics.com/event/carnival-fundraiser-2/
LOCATION:Harris Place\, 165 State Street\, New London\, CT\, 06320
ORGANIZER;CN="Southeastern CT Robotics":MAILTO:fini@southeasternctrobotics.com
END:VEVENT
BEGIN:VEVENT
DTSTART;VALUE=DATE:20221203
DTEND;VALUE=DATE:20221204
DTSTAMP:20260421T161351
CREATED:20220817T200544Z
LAST-MODIFIED:20220817T200544Z
UID:366-1670025600-1670111999@southeasternctrobotics.com
SUMMARY:CT State Championship
DESCRIPTION:
URL:https://southeasternctrobotics.com/event/ct-state-championship/
LOCATION:CT
END:VEVENT
BEGIN:VEVENT
DTSTART;VALUE=DATE:20221119
DTEND;VALUE=DATE:20221120
DTSTAMP:20260421T161351
CREATED:20220817T200221Z
LAST-MODIFIED:20220817T200221Z
UID:364-1668816000-1668902399@southeasternctrobotics.com
SUMMARY:Qualifiers
DESCRIPTION:
URL:https://southeasternctrobotics.com/event/qualifiers-2/
LOCATION:CT
END:VEVENT
BEGIN:VEVENT
DTSTART;VALUE=DATE:20221112
DTEND;VALUE=DATE:20221113
DTSTAMP:20260421T161351
CREATED:20220817T200143Z
LAST-MODIFIED:20220817T200143Z
UID:362-1668211200-1668297599@southeasternctrobotics.com
SUMMARY:Qualifiers
DESCRIPTION:
URL:https://southeasternctrobotics.com/event/qualifiers/
LOCATION:CT
END:VEVENT
BEGIN:VEVENT
DTSTART;TZID=Asia/Dubai:20220903T160000
DTEND;TZID=Asia/Dubai:20220903T180000
DTSTAMP:20260421T161351
CREATED:20220817T200040Z
LAST-MODIFIED:20220817T200040Z
UID:359-1662220800-1662228000@southeasternctrobotics.com
SUMMARY:Energy in Action - Eversource Trailer
DESCRIPTION:
URL:https://southeasternctrobotics.com/event/energy-in-action-eversource-trailer/
LOCATION:CT
ORGANIZER;CN="Southeastern CT Robotics":MAILTO:fini@southeasternctrobotics.com
END:VEVENT
BEGIN:VEVENT
DTSTART;TZID=America/New_York:20220711T153000
DTEND;TZID=America/New_York:20220729T170000
DTSTAMP:20260421T161351
CREATED:20220409T205918Z
LAST-MODIFIED:20220409T205918Z
UID:315-1657553400-1659114000@southeasternctrobotics.com
SUMMARY:Dancing Robot Camp
DESCRIPTION:Back because it’s fun… we are holding our Dancing Robot Camp again! During the camp\, you will learn how to build and program your robot to dance to a piece of music of your choice. Robots\, Computers\, and Wi-Fi are provided. Students will need to bring their own headphones or earbuds.  Suggested ages 9-14. Maximum 6 students. Cost: $150 per student per session. Sessions run for 5 days\, one each in July. \nSession One: July 11-15\, 3:30-5:30PM \nSession Two: July 18-22\, 3:30-5:30PM \nSession Three: July 25-29\, 3:30-5:30PM \n 
URL:https://southeasternctrobotics.com/event/dancing-robot-camp/
LOCATION:CT
ATTACH;FMTTYPE=image/jpeg:https://southeasternctrobotics.com/wp-content/uploads/Robotics-Camp-2022.jpg
ORGANIZER;CN="Southeastern CT Robotics":MAILTO:fini@southeasternctrobotics.com
END:VEVENT
BEGIN:VEVENT
DTSTART;TZID=America/New_York:20220618T140000
DTEND;TZID=America/New_York:20220618T170000
DTSTAMP:20260421T161351
CREATED:20220409T204231Z
LAST-MODIFIED:20220409T204231Z
UID:312-1655560800-1655571600@southeasternctrobotics.com
SUMMARY:June Fundraiser Carnival
DESCRIPTION:Come visit us at our Lab and support your local New London County FIRST Lego League Teams! Test your skills out on our Lego robot games: Summo Bots\, Soccer Bots\, Cornhole\, and more…in booths on Masonic Street. Spark Makerspace\, NYLA\, and New London Science and Technology FRC Team will have booths as well where they are planning on doing demonstrations. Tickets will be available for purchase when you arrive. Discount for City of New London residents. \nInside Harris Place\, our teams will be holding a skirmish to test the skills they have learned this spring. FLL Challenge teams 16501\, 16502\, and 16503 will go head to head. We will be introducing our new FLL Explore Team. \n 
URL:https://southeasternctrobotics.com/event/june-fundraiser-carnival/
LOCATION:Harris Place\, 165 State Street\, New London\, CT\, 06320
ATTACH;FMTTYPE=image/jpeg:https://southeasternctrobotics.com/wp-content/uploads/Landscape-Flyer.jpg
ORGANIZER;CN="Southeastern CT Robotics":MAILTO:fini@southeasternctrobotics.com
END:VEVENT
BEGIN:VEVENT
DTSTART;TZID=America/New_York:20220502T120000
DTEND;TZID=America/New_York:20220630T133000
DTSTAMP:20260421T161351
CREATED:20220409T211724Z
LAST-MODIFIED:20220409T211724Z
UID:319-1651492800-1656595800@southeasternctrobotics.com
SUMMARY:Robotics Classes for Homeschoolers
DESCRIPTION:We will be offering robotics classes at our Lab in New London for homeschoolers for four sessions starting this May. Students will be teaching their EV3 robots to dance. One student to one robot to one computer. Bring your own headphones or earbuds. Basic building and programming skills learned. Suggested ages: 9-14. Cost: $120 per student. Contact: fini@southeasternctrobotics.com to sign up. \nSession One: Monday\, May 2\,9\,16\, and 23 12-1:30 \nSession Two: Thursday\, May 5\, 12\, 19\, and 26 12-1:30 \nSession Three: Monday\, June 6\, 13\, 20\, and 27 12-1:30 \nSession Four: Thursday\, June 9\, 16\, 23\, and 30 12-1:30 \n  \n 
URL:https://southeasternctrobotics.com/event/robotics-classes-for-homeschoolers/
LOCATION:CT
ORGANIZER;CN="Southeastern CT Robotics":MAILTO:fini@southeasternctrobotics.com
END:VEVENT
BEGIN:VEVENT
DTSTART;TZID=UTC:20211218T160000
DTEND;TZID=UTC:20211218T180000
DTSTAMP:20260421T161351
CREATED:20211206T222524Z
LAST-MODIFIED:20211206T223036Z
UID:308-1639843200-1639850400@southeasternctrobotics.com
SUMMARY:OPEN HOUSE
DESCRIPTION:
URL:https://southeasternctrobotics.com/event/open-house/
LOCATION:Harris Place\, 165 State Street\, New London\, CT\, 06320
ORGANIZER;CN="Southeastern CT Robotics":MAILTO:fini@southeasternctrobotics.com
END:VEVENT
BEGIN:VEVENT
DTSTART;TZID=UTC:20211211T080000
DTEND;TZID=UTC:20211211T170000
DTSTAMP:20260421T161351
CREATED:20211109T235040Z
LAST-MODIFIED:20211204T050907Z
UID:302-1639209600-1639242000@southeasternctrobotics.com
SUMMARY:FLL State Championships
DESCRIPTION:Teams 16501 Platapults\, 16502 Passenger Pigeons and 16503 Robot Royalty have each qualified for the State Tournament at Glastonbury High School. \n 
URL:https://southeasternctrobotics.com/event/fll-state-championships/
LOCATION:Glastonbury High School\, 330 Hubbard St\, Glastonbury\, CT\, 06033\, United States
END:VEVENT
BEGIN:VEVENT
DTSTART;TZID=UTC:20211120T090000
DTEND;TZID=UTC:20211120T170000
DTSTAMP:20260421T161351
CREATED:20211109T234659Z
LAST-MODIFIED:20211109T234659Z
UID:298-1637398800-1637427600@southeasternctrobotics.com
SUMMARY:Tolland Qualifier Event Team 16502
DESCRIPTION:Team 16502 Passenger Pigeons will be competing in their Qualifier event in Tolland. Good luck team. Details to follow
URL:https://southeasternctrobotics.com/event/tolland-qualifier-event-team-16502/
LOCATION:Tolland High School\, 1 Eagle Hill\, Tolland\, CT\, 06084\, United States
END:VEVENT
BEGIN:VEVENT
DTSTART;TZID=UTC:20211113T080000
DTEND;TZID=UTC:20211113T170000
DTSTAMP:20260421T161351
CREATED:20211109T233830Z
LAST-MODIFIED:20211109T233830Z
UID:294-1636790400-1636822800@southeasternctrobotics.com
SUMMARY:Glastonbury Qualifier Tournament Teams 16501 and 16503
DESCRIPTION:Both 16501 Platapults and 16503 Robot Royalty will be competing in their first ever tournament. We wish them all the best. The link to see posted match scores is listed here. Have fun and learn a lot!
URL:https://southeasternctrobotics.com/event/glastonbury-qualifier-tournament-teams-16501-and-16503/
LOCATION:Gideon Welles Middle School\, 1029 Neipsic Road\, 1029 Neipsic Road\, CT\, 06033\, United States
END:VEVENT
BEGIN:VEVENT
DTSTART;TZID=UTC:20211106T160000
DTEND;TZID=UTC:20211106T180000
DTSTAMP:20260421T161351
CREATED:20211109T232459Z
LAST-MODIFIED:20211109T232459Z
UID:292-1636214400-1636221600@southeasternctrobotics.com
SUMMARY:SECTR Mock Tournament/Scrimmage with Aluminum Eyas
DESCRIPTION:Dress rehearsal for upcoming Qualifier Tournaments. Purpose of the event is to experience what a tournament is like where mistakes simply are chances to learn.
URL:https://southeasternctrobotics.com/event/sectr-mock-tournament-scrimmage-with-aluminum-eyas/
LOCATION:CT
END:VEVENT
BEGIN:VEVENT
DTSTART;TZID=UTC:20210922T160000
DTEND;TZID=UTC:20210922T170000
DTSTAMP:20260421T161352
CREATED:20210813T184752Z
LAST-MODIFIED:20210813T184752Z
UID:269-1632326400-1632330000@southeasternctrobotics.com
SUMMARY:Field Trip to ThayerMahan
DESCRIPTION:
URL:https://southeasternctrobotics.com/event/field-trip-to-thayermahan/
LOCATION:ThayerMahan\, 120B Leonard Dr\, Groton\, CT\, 06340\, United States
END:VEVENT
BEGIN:VEVENT
DTSTART;TZID=UTC:20210907T173000
DTEND;TZID=UTC:20210907T180000
DTSTAMP:20260421T161352
CREATED:20210813T185442Z
LAST-MODIFIED:20210813T185442Z
UID:277-1631035800-1631037600@southeasternctrobotics.com
SUMMARY:Robotics Engineer Visit
DESCRIPTION:
URL:https://southeasternctrobotics.com/event/robotics-engineer-visit/
LOCATION:Harris Place\, 165 State Street\, New London\, CT\, 06320
ORGANIZER;CN="Southeastern CT Robotics":MAILTO:fini@southeasternctrobotics.com
END:VEVENT
BEGIN:VEVENT
DTSTART;TZID=UTC:20210824T160000
DTEND;TZID=UTC:20210824T170000
DTSTAMP:20260421T161352
CREATED:20210813T185312Z
LAST-MODIFIED:20210813T185312Z
UID:273-1629820800-1629824400@southeasternctrobotics.com
SUMMARY:Field Trip to New London Post Office
DESCRIPTION:
URL:https://southeasternctrobotics.com/event/field-trip-to-new-london-post-office/
LOCATION:New London Post Office\, 12 Masonic St\, New London\, CT\, 06320\, United States
ORGANIZER;CN="Southeastern CT Robotics":MAILTO:fini@southeasternctrobotics.com
END:VEVENT
BEGIN:VEVENT
DTSTART;TZID=UTC:20210822T123000
DTEND;TZID=UTC:20210822T153000
DTSTAMP:20260421T161352
CREATED:20210813T184311Z
LAST-MODIFIED:20210813T184311Z
UID:264-1629635400-1629646200@southeasternctrobotics.com
SUMMARY:Fair Fundraiser
DESCRIPTION:
URL:https://southeasternctrobotics.com/event/fair-fundraiser/
LOCATION:Harris Place\, 165 State Street\, New London\, CT\, 06320
ORGANIZER;CN="Southeastern CT Robotics":MAILTO:fini@southeasternctrobotics.com
END:VEVENT
BEGIN:VEVENT
DTSTART;TZID=UTC:20210817T123000
DTEND;TZID=UTC:20210817T130000
DTSTAMP:20260421T161352
CREATED:20210813T185719Z
LAST-MODIFIED:20210813T185719Z
UID:279-1629203400-1629205200@southeasternctrobotics.com
SUMMARY:FLL Challenge Release
DESCRIPTION:
URL:https://southeasternctrobotics.com/event/fll-challenge-release/
LOCATION:Harris Place\, 165 State Street\, New London\, CT\, 06320
END:VEVENT
END:VCALENDAR