BEGIN:VCALENDAR
VERSION:2.0
PRODID:-//SECTR - Southeastern CT Robotics - ECPv6.15.20//NONSGML v1.0//EN
CALSCALE:GREGORIAN
METHOD:PUBLISH
X-WR-CALNAME:SECTR - Southeastern CT Robotics
X-ORIGINAL-URL:https://southeasternctrobotics.com
X-WR-CALDESC:Events for SECTR - Southeastern CT Robotics
REFRESH-INTERVAL;VALUE=DURATION:PT1H
X-Robots-Tag:noindex
X-PUBLISHED-TTL:PT1H
BEGIN:VTIMEZONE
TZID:UTC
BEGIN:STANDARD
TZOFFSETFROM:+0000
TZOFFSETTO:+0000
TZNAME:UTC
DTSTART:20190101T000000
END:STANDARD
END:VTIMEZONE
BEGIN:VEVENT
DTSTART;TZID=UTC:20211113T080000
DTEND;TZID=UTC:20211113T170000
DTSTAMP:20260422T182718
CREATED:20211109T233830Z
LAST-MODIFIED:20211109T233830Z
UID:294-1636790400-1636822800@southeasternctrobotics.com
SUMMARY:Glastonbury Qualifier Tournament Teams 16501 and 16503
DESCRIPTION:Both 16501 Platapults and 16503 Robot Royalty will be competing in their first ever tournament. We wish them all the best. The link to see posted match scores is listed here. Have fun and learn a lot!
URL:https://southeasternctrobotics.com/event/glastonbury-qualifier-tournament-teams-16501-and-16503/
LOCATION:Gideon Welles Middle School\, 1029 Neipsic Road\, 1029 Neipsic Road\, CT\, 06033\, United States
END:VEVENT
BEGIN:VEVENT
DTSTART;TZID=UTC:20211106T160000
DTEND;TZID=UTC:20211106T180000
DTSTAMP:20260422T182718
CREATED:20211109T232459Z
LAST-MODIFIED:20211109T232459Z
UID:292-1636214400-1636221600@southeasternctrobotics.com
SUMMARY:SECTR Mock Tournament/Scrimmage with Aluminum Eyas
DESCRIPTION:Dress rehearsal for upcoming Qualifier Tournaments. Purpose of the event is to experience what a tournament is like where mistakes simply are chances to learn.
URL:https://southeasternctrobotics.com/event/sectr-mock-tournament-scrimmage-with-aluminum-eyas/
LOCATION:CT
END:VEVENT
BEGIN:VEVENT
DTSTART;TZID=UTC:20210922T160000
DTEND;TZID=UTC:20210922T170000
DTSTAMP:20260422T182718
CREATED:20210813T184752Z
LAST-MODIFIED:20210813T184752Z
UID:269-1632326400-1632330000@southeasternctrobotics.com
SUMMARY:Field Trip to ThayerMahan
DESCRIPTION:
URL:https://southeasternctrobotics.com/event/field-trip-to-thayermahan/
LOCATION:ThayerMahan\, 120B Leonard Dr\, Groton\, CT\, 06340\, United States
END:VEVENT
BEGIN:VEVENT
DTSTART;TZID=UTC:20210907T173000
DTEND;TZID=UTC:20210907T180000
DTSTAMP:20260422T182718
CREATED:20210813T185442Z
LAST-MODIFIED:20210813T185442Z
UID:277-1631035800-1631037600@southeasternctrobotics.com
SUMMARY:Robotics Engineer Visit
DESCRIPTION:
URL:https://southeasternctrobotics.com/event/robotics-engineer-visit/
LOCATION:Harris Place\, 165 State Street\, New London\, CT\, 06320
ORGANIZER;CN="Southeastern CT Robotics":MAILTO:fini@southeasternctrobotics.com
END:VEVENT
BEGIN:VEVENT
DTSTART;TZID=UTC:20210824T160000
DTEND;TZID=UTC:20210824T170000
DTSTAMP:20260422T182718
CREATED:20210813T185312Z
LAST-MODIFIED:20210813T185312Z
UID:273-1629820800-1629824400@southeasternctrobotics.com
SUMMARY:Field Trip to New London Post Office
DESCRIPTION:
URL:https://southeasternctrobotics.com/event/field-trip-to-new-london-post-office/
LOCATION:New London Post Office\, 12 Masonic St\, New London\, CT\, 06320\, United States
ORGANIZER;CN="Southeastern CT Robotics":MAILTO:fini@southeasternctrobotics.com
END:VEVENT
BEGIN:VEVENT
DTSTART;TZID=UTC:20210822T123000
DTEND;TZID=UTC:20210822T153000
DTSTAMP:20260422T182718
CREATED:20210813T184311Z
LAST-MODIFIED:20210813T184311Z
UID:264-1629635400-1629646200@southeasternctrobotics.com
SUMMARY:Fair Fundraiser
DESCRIPTION:
URL:https://southeasternctrobotics.com/event/fair-fundraiser/
LOCATION:Harris Place\, 165 State Street\, New London\, CT\, 06320
ORGANIZER;CN="Southeastern CT Robotics":MAILTO:fini@southeasternctrobotics.com
END:VEVENT
BEGIN:VEVENT
DTSTART;TZID=UTC:20210817T123000
DTEND;TZID=UTC:20210817T130000
DTSTAMP:20260422T182718
CREATED:20210813T185719Z
LAST-MODIFIED:20210813T185719Z
UID:279-1629203400-1629205200@southeasternctrobotics.com
SUMMARY:FLL Challenge Release
DESCRIPTION:
URL:https://southeasternctrobotics.com/event/fll-challenge-release/
LOCATION:Harris Place\, 165 State Street\, New London\, CT\, 06320
END:VEVENT
BEGIN:VEVENT
DTSTART;TZID=UTC:20210612T080000
DTEND;TZID=UTC:20210619T210000
DTSTAMP:20260422T182718
CREATED:20210504T212210Z
LAST-MODIFIED:20210504T212837Z
UID:243-1623484800-1624136400@southeasternctrobotics.com
SUMMARY:Virtual Open Invitational - 16502 The Escapists
DESCRIPTION:77 Teams from around the World will be competing in the FLL Event. Our 16502 Team is honored to be invited this year.
URL:https://southeasternctrobotics.com/event/virtual-open-invitational-16502-the-escapists/
LOCATION:CT
END:VEVENT
BEGIN:VEVENT
DTSTART;TZID=UTC:20210109T140000
DTEND;TZID=UTC:20210109T160000
DTSTAMP:20260422T182718
CREATED:20201130T215727Z
LAST-MODIFIED:20201130T215727Z
UID:185-1610200800-1610208000@southeasternctrobotics.com
SUMMARY:New Member Open House
DESCRIPTION:
URL:https://southeasternctrobotics.com/event/new-member-open-house/
LOCATION:Harris Place\, 165 State Street\, New London\, CT\, 06320
END:VEVENT
BEGIN:VEVENT
DTSTART;TZID=UTC:20201222T153000
DTEND;TZID=UTC:20201222T173000
DTSTAMP:20260422T182718
CREATED:20201130T220230Z
LAST-MODIFIED:20201130T220305Z
UID:192-1608651000-1608658200@southeasternctrobotics.com
SUMMARY:16502 Winter Event
DESCRIPTION:
URL:https://southeasternctrobotics.com/event/16502-winter-event/
LOCATION:Harris Place\, 165 State Street\, New London\, CT\, 06320
END:VEVENT
BEGIN:VEVENT
DTSTART;TZID=UTC:20201221T153000
DTEND;TZID=UTC:20201221T173000
DTSTAMP:20260422T182718
CREATED:20201130T220130Z
LAST-MODIFIED:20201130T220130Z
UID:190-1608564600-1608571800@southeasternctrobotics.com
SUMMARY:16501 Winter Event
DESCRIPTION:
URL:https://southeasternctrobotics.com/event/16501-winter-event/
LOCATION:Harris Place\, 165 State Street\, New London\, CT\, 06320
END:VEVENT
BEGIN:VEVENT
DTSTART;TZID=UTC:20201216T153000
DTEND;TZID=UTC:20201216T173000
DTSTAMP:20260422T182718
CREATED:20201130T215945Z
LAST-MODIFIED:20201130T215945Z
UID:188-1608132600-1608139800@southeasternctrobotics.com
SUMMARY:16503 Winter Event
DESCRIPTION:
URL:https://southeasternctrobotics.com/event/16503-winter-event/
LOCATION:Harris Place\, 165 State Street\, New London\, CT\, 06320
END:VEVENT
BEGIN:VEVENT
DTSTART;TZID=UTC:20200918T080000
DTEND;TZID=UTC:20200918T170000
DTSTAMP:20260422T182718
CREATED:20200918T194836Z
LAST-MODIFIED:20200918T195009Z
UID:129-1600416000-1600448400@southeasternctrobotics.com
SUMMARY:Test Event 1
DESCRIPTION:This is the event description!
URL:https://southeasternctrobotics.com/event/test-event-1/
LOCATION:Harris Place\, 165 State Street\, New London\, CT\, 06320
ATTACH;FMTTYPE=image/png:https://southeasternctrobotics.com/wp-content/uploads/2020/09/sectr-white.png
END:VEVENT
END:VCALENDAR