BEGIN:VCALENDAR
VERSION:2.0
PRODID:-//SECTR - Southeastern CT Robotics - ECPv6.15.20//NONSGML v1.0//EN
CALSCALE:GREGORIAN
METHOD:PUBLISH
X-WR-CALNAME:SECTR - Southeastern CT Robotics
X-ORIGINAL-URL:https://southeasternctrobotics.com
X-WR-CALDESC:Events for SECTR - Southeastern CT Robotics
REFRESH-INTERVAL;VALUE=DURATION:PT1H
X-Robots-Tag:noindex
X-PUBLISHED-TTL:PT1H
BEGIN:VTIMEZONE
TZID:America/New_York
BEGIN:DAYLIGHT
TZOFFSETFROM:-0500
TZOFFSETTO:-0400
TZNAME:EDT
DTSTART:20250309T070000
END:DAYLIGHT
BEGIN:STANDARD
TZOFFSETFROM:-0400
TZOFFSETTO:-0500
TZNAME:EST
DTSTART:20251102T060000
END:STANDARD
BEGIN:DAYLIGHT
TZOFFSETFROM:-0500
TZOFFSETTO:-0400
TZNAME:EDT
DTSTART:20260308T070000
END:DAYLIGHT
BEGIN:STANDARD
TZOFFSETFROM:-0400
TZOFFSETTO:-0500
TZNAME:EST
DTSTART:20261101T060000
END:STANDARD
BEGIN:DAYLIGHT
TZOFFSETFROM:-0500
TZOFFSETTO:-0400
TZNAME:EDT
DTSTART:20270314T070000
END:DAYLIGHT
BEGIN:STANDARD
TZOFFSETFROM:-0400
TZOFFSETTO:-0500
TZNAME:EST
DTSTART:20271107T060000
END:STANDARD
END:VTIMEZONE
BEGIN:VEVENT
DTSTART;TZID=America/New_York:20260504T170000
DTEND;TZID=America/New_York:20260504T180000
DTSTAMP:20260421T144338
CREATED:20260305T203234Z
LAST-MODIFIED:20260305T203234Z
UID:644-1777914000-1777917600@southeasternctrobotics.com
SUMMARY:Professor Stewart Visiting
DESCRIPTION:Discussion about combustion and how a model rocket works
URL:https://southeasternctrobotics.com/event/professor-stewart-visiting/
LOCATION:Harris Place\, 165 State Street\, New London\, CT\, 06320
END:VEVENT
END:VCALENDAR