BEGIN:VCALENDAR
VERSION:2.0
PRODID:-//SECTR - Southeastern CT Robotics - ECPv6.15.20//NONSGML v1.0//EN
CALSCALE:GREGORIAN
METHOD:PUBLISH
X-ORIGINAL-URL:https://southeasternctrobotics.com
X-WR-CALDESC:Events for SECTR - Southeastern CT Robotics
REFRESH-INTERVAL;VALUE=DURATION:PT1H
X-Robots-Tag:noindex
X-PUBLISHED-TTL:PT1H
BEGIN:VTIMEZONE
TZID:America/New_York
BEGIN:DAYLIGHT
TZOFFSETFROM:-0500
TZOFFSETTO:-0400
TZNAME:EDT
DTSTART:20250309T070000
END:DAYLIGHT
BEGIN:STANDARD
TZOFFSETFROM:-0400
TZOFFSETTO:-0500
TZNAME:EST
DTSTART:20251102T060000
END:STANDARD
BEGIN:DAYLIGHT
TZOFFSETFROM:-0500
TZOFFSETTO:-0400
TZNAME:EDT
DTSTART:20260308T070000
END:DAYLIGHT
BEGIN:STANDARD
TZOFFSETFROM:-0400
TZOFFSETTO:-0500
TZNAME:EST
DTSTART:20261101T060000
END:STANDARD
BEGIN:DAYLIGHT
TZOFFSETFROM:-0500
TZOFFSETTO:-0400
TZNAME:EDT
DTSTART:20270314T070000
END:DAYLIGHT
BEGIN:STANDARD
TZOFFSETFROM:-0400
TZOFFSETTO:-0500
TZNAME:EST
DTSTART:20271107T060000
END:STANDARD
END:VTIMEZONE
BEGIN:VEVENT
DTSTART;VALUE=DATE:20260417
DTEND;VALUE=DATE:20260419
DTSTAMP:20260421T111333
CREATED:20260305T205446Z
LAST-MODIFIED:20260305T205946Z
UID:661-1776384000-1776556799@southeasternctrobotics.com
SUMMARY:New England Premier State Championship
DESCRIPTION:FTC members volunteering
URL:https://southeasternctrobotics.com/event/new-england-premier-state-chmapionship/
LOCATION:Big E Fairgrounds\, 1305 Memorial Ave\, Springfield\, MA\, 01089\, United States
END:VEVENT
BEGIN:VEVENT
DTSTART;TZID=America/New_York:20260418T100000
DTEND;TZID=America/New_York:20260418T123000
DTSTAMP:20260421T111333
CREATED:20260305T201957Z
LAST-MODIFIED:20260305T201957Z
UID:633-1776506400-1776515400@southeasternctrobotics.com
SUMMARY:Explore Team Meeting #3
DESCRIPTION:
URL:https://southeasternctrobotics.com/event/explore-team-meeting-3/
LOCATION:Harris Place\, 165 State Street\, New London\, CT\, 06320
END:VEVENT
BEGIN:VEVENT
DTSTART;TZID=America/New_York:20260418T150000
DTEND;TZID=America/New_York:20260418T170000
DTSTAMP:20260421T111333
CREATED:20260305T202522Z
LAST-MODIFIED:20260305T202522Z
UID:639-1776524400-1776531600@southeasternctrobotics.com
SUMMARY:Boston Dynamics and Spot Visit
DESCRIPTION:Open to all teams
URL:https://southeasternctrobotics.com/event/boston-dynamics-and-spot-visit/
LOCATION:Harris Place\, 165 State Street\, New London\, CT\, 06320
END:VEVENT
END:VCALENDAR