BEGIN:VCALENDAR
VERSION:2.0
PRODID:-//SECTR - Southeastern CT Robotics - ECPv6.15.20//NONSGML v1.0//EN
CALSCALE:GREGORIAN
METHOD:PUBLISH
X-WR-CALNAME:SECTR - Southeastern CT Robotics
X-ORIGINAL-URL:https://southeasternctrobotics.com
X-WR-CALDESC:Events for SECTR - Southeastern CT Robotics
REFRESH-INTERVAL;VALUE=DURATION:PT1H
X-Robots-Tag:noindex
X-PUBLISHED-TTL:PT1H
BEGIN:VTIMEZONE
TZID:America/New_York
BEGIN:DAYLIGHT
TZOFFSETFROM:-0500
TZOFFSETTO:-0400
TZNAME:EDT
DTSTART:20250309T070000
END:DAYLIGHT
BEGIN:STANDARD
TZOFFSETFROM:-0400
TZOFFSETTO:-0500
TZNAME:EST
DTSTART:20251102T060000
END:STANDARD
BEGIN:DAYLIGHT
TZOFFSETFROM:-0500
TZOFFSETTO:-0400
TZNAME:EDT
DTSTART:20260308T070000
END:DAYLIGHT
BEGIN:STANDARD
TZOFFSETFROM:-0400
TZOFFSETTO:-0500
TZNAME:EST
DTSTART:20261101T060000
END:STANDARD
BEGIN:DAYLIGHT
TZOFFSETFROM:-0500
TZOFFSETTO:-0400
TZNAME:EDT
DTSTART:20270314T070000
END:DAYLIGHT
BEGIN:STANDARD
TZOFFSETFROM:-0400
TZOFFSETTO:-0500
TZNAME:EST
DTSTART:20271107T060000
END:STANDARD
END:VTIMEZONE
BEGIN:VEVENT
DTSTART;TZID=America/New_York:20260416T170000
DTEND;TZID=America/New_York:20260416T180000
DTSTAMP:20260421T111108
CREATED:20260305T203848Z
LAST-MODIFIED:20260305T203848Z
UID:654-1776358800-1776362400@southeasternctrobotics.com
SUMMARY:Trip to Spark 16503
DESCRIPTION:
URL:https://southeasternctrobotics.com/event/trip-to-spark-16503/
LOCATION:Spark Makerspace\, 7 Union St\, New London\, CT\, 06320\, United States
END:VEVENT
BEGIN:VEVENT
DTSTART;TZID=America/New_York:20260416T180000
DTEND;TZID=America/New_York:20260416T200000
DTSTAMP:20260421T111108
CREATED:20260409T160709Z
LAST-MODIFIED:20260409T160709Z
UID:673-1776362400-1776369600@southeasternctrobotics.com
SUMMARY:FTC Pot Luck Dinner and Raffle
DESCRIPTION:For FTC Team Members and Families. Bring a dish that reflects who you are. Bring a raffle item\, and items will be raffled off to who ever buys a ticket for that item. Money raised will go towards our trip. The Main purpose of the meal is to get to share our diverse cultures with each other through food.
URL:https://southeasternctrobotics.com/event/ftc-pot-luck-dinner-and-raffle/
LOCATION:Harris Place\, 165 State Street\, New London\, CT\, 06320
END:VEVENT
END:VCALENDAR